BEGIN:VCALENDAR
VERSION:2.0
PRODID:-//Portal da Educação - ECPv6.2.9//NONSGML v1.0//EN
CALSCALE:GREGORIAN
METHOD:PUBLISH
X-ORIGINAL-URL:https://edu.azores.gov.pt
X-WR-CALDESC:Events for Portal da Educação
REFRESH-INTERVAL;VALUE=DURATION:PT1H
X-Robots-Tag:noindex
X-PUBLISHED-TTL:PT1H
BEGIN:VTIMEZONE
TZID:Atlantic/Azores
BEGIN:DAYLIGHT
TZOFFSETFROM:-0100
TZOFFSETTO:+0000
TZNAME:+00
DTSTART:20200329T010000
END:DAYLIGHT
BEGIN:STANDARD
TZOFFSETFROM:+0000
TZOFFSETTO:-0100
TZNAME:-01
DTSTART:20201025T010000
END:STANDARD
END:VTIMEZONE
BEGIN:VEVENT
DTSTART;TZID=Atlantic/Azores:20200910T091500
DTEND;TZID=Atlantic/Azores:20200911T123000
DTSTAMP:20260421T040619
CREATED:20200910T103254Z
LAST-MODIFIED:20200918T145601Z
UID:6853-1599729300-1599827400@edu.azores.gov.pt
SUMMARY:III Encontro ProSucesso - 10 e 11 de setembro
DESCRIPTION:O III Encontro ProSucesso\, que vai ter lugar nas manhãs dos dias 10 e 11 de setembro\, totalmente dinamizado por videoconferência\, dedicado ao tema da Avaliação\, é um evento da Direção Regional da Educação aberto a todos os elementos das comunidades educativas das escolas da Região\, com prioridade para as lideranças\, nomeadamente elementos do conselho executivo\, coordenadores de departamento e de projetos\, equipa ProSucesso e diretores de turma. \nO Senhor Secretário Regional da Educação e Cultura abre o Encontro às 09h15 do dia 10 e segue-se uma conferência proferida pelo Professor Doutor Laborinho Lúcio\, intitulada “A educação e a escola: um amor em tempos de peste”. \nNeste dia\, é feito o balanço do acompanhamento realizado em 2019/20 pela Comissão Coordenadora do ProSucesso junto das escolas e o painel “Como avaliar para as aprendizagens?” com a partilha de experiências pedagógicas de dois docentes de Geometria Descritiva e Matemática\, respetivamente. \nNo dia 11\, realizam-se quatro ateliês temáticos em simultâneo\, também sobre a temática da avaliação\, seguidos da comunicação sobre os desafios para o ano letivo 2020/21. \nO Senhor Diretor Regional da Educação encerra o Encontro às 11h45. \nO Encontro assinala\, ainda\, o Dia do ProSucesso. \nPROGRAMA  \n10 de setembro \n09h15  – SESSÃO DE ABERTURA \nAvelino Meneses | Secretário Regional da Educação e Cultura \n09h30 – CONFERÊNCIA \nA educação e a escola: um amor em tempos de peste \nProfessor Doutor Laborinho Lúcio \n10h15 –  Questões ao orador via chat \n10h30 – PAUSA \n10h45 – BALANÇO DO ACOMPANHAMENTO REALIZADO EM 2019/20 \nComissão Coordenadora do ProSucesso \n11h15 – COMO AVALIAR PARA AS APRENDIZAGENS? │PAINEL \n− Rotinas e excecionalidades em Geometria Descritiva │ Sónia Bárbara – ES Vitorino Nemésio \n− Concretizar a avaliação pedagógica em contexto de E@D na disciplina de Matemática do ensino secundário │ João Neves – ES Jerónimo Emiliano de Andrade \n12h15   Questões via chat e síntese das propostas apresentadas \n11 de setembro \n09H30 – COMO AVALIAR (PARA) AS APRENDIZAGENS? | ATELIÊS TEMÁTICOS (a realizar em simultâneo) \nA1 – Monitorizar para vencer desafios – Inglês 1.º e 2.º ciclos │ Elisabete Tavares – EBS Tomás de Borba \nA2 – Estratégias organizativas ao serviço da aprendizagem da leitura: o lugar do feedback │ Luís Paiva – EBI Lagoa e Anabela Sousa – EBI Arrifes \nA3 – Porque diversificando também se prepara para a Prova Final de Matemática │ Ana Paiva – EBI Topo \nA4 – As Salas de Fuga e o Tik Tok na Avaliação para as Aprendizagens │ José Freire – EBI Roberto Ivens \n10h15 – SÍNTESE DOS ATELIÊS TEMÁTICOS \n10h30 – OS DESAFIOS PARA O ANO LETIVO 2020/21 \nDRE | Comissão Coordenadora do ProSucesso \n11h15   Questões via chat \n11h45 – ENCERRAMENTO – Rodrigo Reis | Diretor Regional da Educação
URL:https://edu.azores.gov.pt/evento/iii-encontro-prosucesso-10-e-11-de-setembro/
END:VEVENT
END:VCALENDAR