BEGIN:VCALENDAR
VERSION:2.0
PRODID:-//Portal da Educação - ECPv6.2.9//NONSGML v1.0//EN
CALSCALE:GREGORIAN
METHOD:PUBLISH
X-WR-CALNAME:Portal da Educação
X-ORIGINAL-URL:https://edu.azores.gov.pt
X-WR-CALDESC:Events for Portal da Educação
REFRESH-INTERVAL;VALUE=DURATION:PT1H
X-Robots-Tag:noindex
X-PUBLISHED-TTL:PT1H
BEGIN:VTIMEZONE
TZID:Atlantic/Azores
BEGIN:DAYLIGHT
TZOFFSETFROM:-0100
TZOFFSETTO:+0000
TZNAME:+00
DTSTART:20200329T010000
END:DAYLIGHT
BEGIN:STANDARD
TZOFFSETFROM:+0000
TZOFFSETTO:-0100
TZNAME:-01
DTSTART:20201025T010000
END:STANDARD
END:VTIMEZONE
BEGIN:VEVENT
DTSTART;VALUE=DATE:20200908
DTEND;VALUE=DATE:20200909
DTSTAMP:20260421T110804
CREATED:20200827T122842Z
LAST-MODIFIED:20200910T101839Z
UID:6748-1599523200-1599609599@edu.azores.gov.pt
SUMMARY:4.º ENCONTRO REGIONAL DE TECNOLOGIAS NA EDUCAÇÃO – 8 DE SETEMBRO DE 2020
DESCRIPTION:A Direção Regional da Educação (DRE) promove\, no próximo dia 8 de setembro\, o 4.º Encontro Regional de Tecnologias na Educação (ERTE). Este evento realizar-se-á em formato “híbrido”\, no auditório da EBS Tomás de Borba\, na ilha Terceira\, proporcionando-se aos participantes das escolas públicas desta ilha assistir presencialmente ao Encontro\, sendo que os restantes participantes poderão assistir em formato online. \nO 4.º ERTE propõe-se abordar a realidade e os desafios do ensino à distância (E@D)\, proporcionando uma reflexão sobre o que é essencial fazer-se na eventualidade de um retorno a esse modelo\, ou a um modelo “híbrido”\, partilhando algumas ferramentas e estratégias úteis no processo de ensino-aprendizagem\, que também têm aplicação no ensino presencial. \nPodem participar todos os educadores de infância\, os professores dos ensinos básico\, secundário e profissional\, de qualquer área disciplinar\, de escolas públicas ou privadas\, que estejam interessados em conhecer práticas pedagógicas com utilização das tecnologias. \nO ERTE está inserido no programa T.O.P.A (Traz O teu Próprio Aparelho)\, baseado no princípio do BOYD (Bring Your Own Device). \nPara assistir ao encontro\, inscreva-se em bit.ly/ERTE4\, até ao dia 4 de setembro de 2020.
URL:https://edu.azores.gov.pt/evento/4-o-encontro-regional-de-tecnologias-na-educacao-8-de-setembro-de-2020/
LOCATION:Escola Básica e Secundária Tomás de Borba\, Avenida António Dacosta\, ANGRA DO HEROÍSMO\, Açores\, 9700-222\, Portugal
ATTACH;FMTTYPE=image/jpeg:https://edu.azores.gov.pt/wp-content/uploads/2020/08/banner_erte4_fb_v02.jpg
END:VEVENT
END:VCALENDAR